BEGIN:VCALENDAR
VERSION:2.0
PRODID:-//jEvents 2.0 for Joomla//EN
CALSCALE:GREGORIAN
METHOD:PUBLISH
BEGIN:VEVENT
UID:CSVConvertcdcc52d2f7df2bb1b18040de2a40d8fe
CATEGORIES:Vencimientos
CREATED:20231213T173240
SUMMARY:SIRTAC - VENCIMIENTO PRESENTACION DDJJ 2da QUINCENA SEPTIEMBRE 
DESCRIPTION:
DTSTAMP:20260419T123835
DTSTART;TZID=America/Argentina/Buenos_Aires;VALUE=DATE:20241009
DTEND;TZID=America/Argentina/Buenos_Aires;VALUE=DATE:20241010
SEQUENCE:0
TRANSP:OPAQUE
END:VEVENT
END:VCALENDAR