BEGIN:VCALENDAR
VERSION:2.0
PRODID:-//jEvents 2.0 for Joomla//EN
CALSCALE:GREGORIAN
METHOD:PUBLISH
BEGIN:VEVENT
UID:CSVConvert8c18e8e99d77ce3c0775588521575c69
CATEGORIES:Vencimientos
CREATED:20231213T173240
SUMMARY:SIRTAC - VENCIMIENTO PAGO DDJJ 1ra QUINCENA JUNIO 
DESCRIPTION:
DTSTAMP:20260419T191314
DTSTART;TZID=America/Argentina/Buenos_Aires;VALUE=DATE:20240627
DTEND;TZID=America/Argentina/Buenos_Aires;VALUE=DATE:20240628
SEQUENCE:0
TRANSP:OPAQUE
END:VEVENT
END:VCALENDAR