BEGIN:VCALENDAR
VERSION:2.0
PRODID:-//jEvents 2.0 for Joomla//EN
CALSCALE:GREGORIAN
METHOD:PUBLISH
BEGIN:VEVENT
UID:CSVConvert8722a09658b3b9b3c2e6f001c0f6a450
CATEGORIES:Vencimientos
CREATED:20231213T173240
SUMMARY:SIRTAC - VENCIMIENTO PAGO DDJJ 1ra QUINCENA JULIO 
DESCRIPTION:
DTSTAMP:20260419T174508
DTSTART;TZID=America/Argentina/Buenos_Aires;VALUE=DATE:20240725
DTEND;TZID=America/Argentina/Buenos_Aires;VALUE=DATE:20240726
SEQUENCE:0
TRANSP:OPAQUE
END:VEVENT
END:VCALENDAR