BEGIN:VCALENDAR
VERSION:2.0
PRODID:-//jEvents 2.0 for Joomla//EN
CALSCALE:GREGORIAN
METHOD:PUBLISH
BEGIN:VEVENT
UID:CSVConvert757d380a68ee3d7ab1864691da41cb31
CATEGORIES:Vencimientos
CREATED:20231213T173240
SUMMARY:SIRTAC - VENCIMIENTO PRESENTACION DDJJ 2da QUINCENA JUNIO 
DESCRIPTION:
DTSTAMP:20260419T191420
DTSTART;TZID=America/Argentina/Buenos_Aires;VALUE=DATE:20240710
DTEND;TZID=America/Argentina/Buenos_Aires;VALUE=DATE:20240711
SEQUENCE:0
TRANSP:OPAQUE
END:VEVENT
END:VCALENDAR