BEGIN:VCALENDAR
VERSION:2.0
PRODID:-//jEvents 2.0 for Joomla//EN
CALSCALE:GREGORIAN
METHOD:PUBLISH
BEGIN:VEVENT
UID:CSVConvert74529865099bb2b3b9b8c7ae65148ff8
CATEGORIES:Vencimientos
CREATED:20231213T173240
SUMMARY:SIRTAC - VENCIMIENTO PAGO DDJJ 2da QUINCENA AGOSTO 
DESCRIPTION:
DTSTAMP:20260419T143512
DTSTART;TZID=America/Argentina/Buenos_Aires;VALUE=DATE:20240911
DTEND;TZID=America/Argentina/Buenos_Aires;VALUE=DATE:20240912
SEQUENCE:0
TRANSP:OPAQUE
END:VEVENT
END:VCALENDAR