BEGIN:VCALENDAR
VERSION:2.0
PRODID:-//jEvents 2.0 for Joomla//EN
CALSCALE:GREGORIAN
METHOD:PUBLISH
BEGIN:VEVENT
UID:CSVConvert4d7b104446198f2c49d8df473a98726e
CATEGORIES:Vencimientos
CREATED:20231213T173240
SUMMARY:SIRTAC - VENCIMIENTO PRESENTACION DDJJ 2da QUINCENA JULIO 
DESCRIPTION:
DTSTAMP:20260419T161522
DTSTART;TZID=America/Argentina/Buenos_Aires;VALUE=DATE:20240809
DTEND;TZID=America/Argentina/Buenos_Aires;VALUE=DATE:20240810
SEQUENCE:0
TRANSP:OPAQUE
END:VEVENT
END:VCALENDAR