BEGIN:VCALENDAR
VERSION:2.0
PRODID:-//jEvents 2.0 for Joomla//EN
CALSCALE:GREGORIAN
METHOD:PUBLISH
BEGIN:VEVENT
UID:CSVConvert0cf96ce3e0c45eacbf9a399b2e287014
CATEGORIES:Vencimientos
CREATED:20231213T173239
SUMMARY:SIRTAC - VENCIMIENTO PAGO DDJJ 2da QUINCENA MAYO 
DESCRIPTION:
DTSTAMP:20260419T191139
DTSTART;TZID=America/Argentina/Buenos_Aires;VALUE=DATE:20240612
DTEND;TZID=America/Argentina/Buenos_Aires;VALUE=DATE:20240613
SEQUENCE:0
TRANSP:OPAQUE
END:VEVENT
END:VCALENDAR