BEGIN:VCALENDAR
VERSION:2.0
PRODID:-//jEvents 2.0 for Joomla//EN
CALSCALE:GREGORIAN
METHOD:PUBLISH
BEGIN:VEVENT
UID:CSVConvert045b3548ecb7a408334ba8e605af886d
CATEGORIES:Vencimientos
CREATED:20231213T173239
SUMMARY:SIRTAC - VENCIMIENTO PRESENTACION DDJJ 1ra QUINCENA JUNIO 
DESCRIPTION:
DTSTAMP:20260419T191307
DTSTART;TZID=America/Argentina/Buenos_Aires;VALUE=DATE:20240626
DTEND;TZID=America/Argentina/Buenos_Aires;VALUE=DATE:20240627
SEQUENCE:0
TRANSP:OPAQUE
END:VEVENT
END:VCALENDAR