BEGIN:VCALENDAR
VERSION:2.0
PRODID:-//jEvents 2.0 for Joomla//EN
CALSCALE:GREGORIAN
METHOD:PUBLISH
BEGIN:VEVENT
UID:CSVConvertc5e14c05488ba5fd07072440b8739365
CATEGORIES:Vencimientos
CREATED:20231213T173239
SUMMARY:SIRCUPA - VENCIMIENTO PRESENTACION DDJJ 1ra DECENA JUNIO
DESCRIPTION:
DTSTAMP:20260419T191314
DTSTART;TZID=America/Argentina/Buenos_Aires;VALUE=DATE:20240613
DTEND;TZID=America/Argentina/Buenos_Aires;VALUE=DATE:20240614
SEQUENCE:0
TRANSP:OPAQUE
END:VEVENT
END:VCALENDAR