BEGIN:VCALENDAR
VERSION:2.0
PRODID:-//jEvents 2.0 for Joomla//EN
CALSCALE:GREGORIAN
METHOD:PUBLISH
BEGIN:VEVENT
UID:CSVConvertb8ac6a270f85258ed70c1903f06625a2
CATEGORIES:Vencimientos
CREATED:20231213T173239
SUMMARY:SIRCUPA - VENCIMIENTO PRESENTACION DDJJ 3ra DECENA ABRIL
DESCRIPTION:
DTSTAMP:20260419T211042
DTSTART;TZID=America/Argentina/Buenos_Aires;VALUE=DATE:20240507
DTEND;TZID=America/Argentina/Buenos_Aires;VALUE=DATE:20240508
SEQUENCE:0
TRANSP:OPAQUE
END:VEVENT
END:VCALENDAR