BEGIN:VCALENDAR
VERSION:2.0
PRODID:-//jEvents 2.0 for Joomla//EN
CALSCALE:GREGORIAN
METHOD:PUBLISH
BEGIN:VEVENT
UID:CSVConvertb68d7cd1f5eedff053769104d5996180
CATEGORIES:Vencimientos
CREATED:20231213T173239
SUMMARY:SIRCUPA - VENCIMIENTO PRESENTACION DDJJ 2da DECENA OCTUBRE
DESCRIPTION:
DTSTAMP:20260419T123701
DTSTART;TZID=America/Argentina/Buenos_Aires;VALUE=DATE:20241024
DTEND;TZID=America/Argentina/Buenos_Aires;VALUE=DATE:20241025
SEQUENCE:0
TRANSP:OPAQUE
END:VEVENT
END:VCALENDAR