BEGIN:VCALENDAR
VERSION:2.0
PRODID:-//jEvents 2.0 for Joomla//EN
CALSCALE:GREGORIAN
METHOD:PUBLISH
BEGIN:VEVENT
UID:CSVConverta3cf42353d8a6fbe7cf6b1280b365b9e
CATEGORIES:Vencimientos
CREATED:20231213T173239
SUMMARY:SIRCUPA - VENCIMIENTO PAGO DDJJ 3ra DECENA MARZO
DESCRIPTION:
DTSTAMP:20260419T230153
DTSTART;TZID=America/Argentina/Buenos_Aires;VALUE=DATE:20240409
DTEND;TZID=America/Argentina/Buenos_Aires;VALUE=DATE:20240410
SEQUENCE:0
TRANSP:OPAQUE
END:VEVENT
END:VCALENDAR