BEGIN:VCALENDAR
VERSION:2.0
PRODID:-//jEvents 2.0 for Joomla//EN
CALSCALE:GREGORIAN
METHOD:PUBLISH
BEGIN:VEVENT
UID:CSVConverta376b5bdb0faef112685f7e45192cade
CATEGORIES:Vencimientos
CREATED:20231213T173239
SUMMARY:SIRCUPA - VENCIMIENTO PRESENTACION DDJJ 2da DECENA JULIO
DESCRIPTION:
DTSTAMP:20260419T174217
DTSTART;TZID=America/Argentina/Buenos_Aires;VALUE=DATE:20240725
DTEND;TZID=America/Argentina/Buenos_Aires;VALUE=DATE:20240726
SEQUENCE:0
TRANSP:OPAQUE
END:VEVENT
END:VCALENDAR