BEGIN:VCALENDAR
VERSION:2.0
PRODID:-//jEvents 2.0 for Joomla//EN
CALSCALE:GREGORIAN
METHOD:PUBLISH
BEGIN:VEVENT
UID:CSVConvert95e070efce0f055fcb1269225e1a931b
CATEGORIES:Vencimientos
CREATED:20231213T173239
SUMMARY:SIRCUPA - VENCIMIENTO PAGO DDJJ 1ra DECENA JULIO
DESCRIPTION:
DTSTAMP:20260419T174155
DTSTART;TZID=America/Argentina/Buenos_Aires;VALUE=DATE:20240717
DTEND;TZID=America/Argentina/Buenos_Aires;VALUE=DATE:20240718
SEQUENCE:0
TRANSP:OPAQUE
END:VEVENT
END:VCALENDAR