BEGIN:VCALENDAR
VERSION:2.0
PRODID:-//jEvents 2.0 for Joomla//EN
CALSCALE:GREGORIAN
METHOD:PUBLISH
BEGIN:VEVENT
UID:CSVConvert8cf7548a6f1e61f0268f7e621124b9e1
CATEGORIES:Vencimientos
CREATED:20231213T173239
SUMMARY:SIRCUPA - VENCIMIENTO PAGO DDJJ 3ra DECENA JUNIO
DESCRIPTION:
DTSTAMP:20260419T191139
DTSTART;TZID=America/Argentina/Buenos_Aires;VALUE=DATE:20240705
DTEND;TZID=America/Argentina/Buenos_Aires;VALUE=DATE:20240706
SEQUENCE:0
TRANSP:OPAQUE
END:VEVENT
END:VCALENDAR