BEGIN:VCALENDAR
VERSION:2.0
PRODID:-//jEvents 2.0 for Joomla//EN
CALSCALE:GREGORIAN
METHOD:PUBLISH
BEGIN:VEVENT
UID:CSVConvert89dd80f68a282a1b6166ddb1d1256720
CATEGORIES:Vencimientos
CREATED:20231213T173239
SUMMARY:SIRCUPA - VENCIMIENTO PRESENTACION DDJJ 3ra DECENA JULIO
DESCRIPTION:
DTSTAMP:20260419T174520
DTSTART;TZID=America/Argentina/Buenos_Aires;VALUE=DATE:20240806
DTEND;TZID=America/Argentina/Buenos_Aires;VALUE=DATE:20240807
SEQUENCE:0
TRANSP:OPAQUE
END:VEVENT
END:VCALENDAR