BEGIN:VCALENDAR
VERSION:2.0
PRODID:-//jEvents 2.0 for Joomla//EN
CALSCALE:GREGORIAN
METHOD:PUBLISH
BEGIN:VEVENT
UID:CSVConvert810efb11d03a5e5b134ef4247e898cf7
CATEGORIES:Vencimientos
CREATED:20231213T173239
SUMMARY:SIRCUPA - VENCIMIENTO PAGO DDJJ 1ra DECENA SEPTIEMBRE
DESCRIPTION:
DTSTAMP:20260419T143340
DTSTART;TZID=America/Argentina/Buenos_Aires;VALUE=DATE:20240917
DTEND;TZID=America/Argentina/Buenos_Aires;VALUE=DATE:20240918
SEQUENCE:0
TRANSP:OPAQUE
END:VEVENT
END:VCALENDAR