BEGIN:VCALENDAR
VERSION:2.0
PRODID:-//jEvents 2.0 for Joomla//EN
CALSCALE:GREGORIAN
METHOD:PUBLISH
BEGIN:VEVENT
UID:CSVConvert809495a0fec1f383011f09580cbc8a61
CATEGORIES:Vencimientos
CREATED:20231213T173239
SUMMARY:SIRCUPA - VENCIMIENTO PAGO DDJJ 2da DECENA SEPTIEMBRE
DESCRIPTION:
DTSTAMP:20260419T143452
DTSTART;TZID=America/Argentina/Buenos_Aires;VALUE=DATE:20240927
DTEND;TZID=America/Argentina/Buenos_Aires;VALUE=DATE:20240928
SEQUENCE:0
TRANSP:OPAQUE
END:VEVENT
END:VCALENDAR