BEGIN:VCALENDAR
VERSION:2.0
PRODID:-//jEvents 2.0 for Joomla//EN
CALSCALE:GREGORIAN
METHOD:PUBLISH
BEGIN:VEVENT
UID:CSVConvert644217a7bbba0b8959232b512450ea43
CATEGORIES:Vencimientos
CREATED:20231213T173239
SUMMARY:SIRCUPA - VENCIMIENTO PAGO DDJJ 3ra DECENA SEPTIEMBRE
DESCRIPTION:
DTSTAMP:20260419T123757
DTSTART;TZID=America/Argentina/Buenos_Aires;VALUE=DATE:20241007
DTEND;TZID=America/Argentina/Buenos_Aires;VALUE=DATE:20241008
SEQUENCE:0
TRANSP:OPAQUE
END:VEVENT
END:VCALENDAR