BEGIN:VCALENDAR
VERSION:2.0
PRODID:-//jEvents 2.0 for Joomla//EN
CALSCALE:GREGORIAN
METHOD:PUBLISH
BEGIN:VEVENT
UID:CSVConvert61a659eca9139c3855d56ca74300f554
CATEGORIES:Vencimientos
CREATED:20231213T173239
SUMMARY:SIRCUPA - VENCIMIENTO PAGO DDJJ 2da DECENA JULIO
DESCRIPTION:
DTSTAMP:20260419T174048
DTSTART;TZID=America/Argentina/Buenos_Aires;VALUE=DATE:20240726
DTEND;TZID=America/Argentina/Buenos_Aires;VALUE=DATE:20240727
SEQUENCE:0
TRANSP:OPAQUE
END:VEVENT
END:VCALENDAR