BEGIN:VCALENDAR
VERSION:2.0
PRODID:-//jEvents 2.0 for Joomla//EN
CALSCALE:GREGORIAN
METHOD:PUBLISH
BEGIN:VEVENT
UID:CSVConvert4c4f2e022fa7c215e7c0413510b85da3
CATEGORIES:Vencimientos
CREATED:20231213T173239
SUMMARY:SIRCUPA - VENCIMIENTO PAGO DDJJ 2da DECENA OCTUBRE
DESCRIPTION:
DTSTAMP:20260419T123756
DTSTART;TZID=America/Argentina/Buenos_Aires;VALUE=DATE:20241025
DTEND;TZID=America/Argentina/Buenos_Aires;VALUE=DATE:20241026
SEQUENCE:0
TRANSP:OPAQUE
END:VEVENT
END:VCALENDAR