BEGIN:VCALENDAR
VERSION:2.0
PRODID:-//jEvents 2.0 for Joomla//EN
CALSCALE:GREGORIAN
METHOD:PUBLISH
BEGIN:VEVENT
UID:CSVConvert45e107d6307a894488d0d4cfb343078f
CATEGORIES:Vencimientos
CREATED:20231213T173239
SUMMARY:SIRCUPA - VENCIMIENTO PAGO DDJJ 1ra DECENA OCTUBRE
DESCRIPTION:
DTSTAMP:20260419T123747
DTSTART;TZID=America/Argentina/Buenos_Aires;VALUE=DATE:20241018
DTEND;TZID=America/Argentina/Buenos_Aires;VALUE=DATE:20241019
SEQUENCE:0
TRANSP:OPAQUE
END:VEVENT
END:VCALENDAR