BEGIN:VCALENDAR
VERSION:2.0
PRODID:-//jEvents 2.0 for Joomla//EN
CALSCALE:GREGORIAN
METHOD:PUBLISH
BEGIN:VEVENT
UID:CSVConvert3fbac0d8fe5f721df9a33df3dbf6d83f
CATEGORIES:Vencimientos
CREATED:20231213T173239
SUMMARY:SIRCUPA - VENCIMIENTO PAGO DDJJ 3ra DECENA AGOSTO
DESCRIPTION:
DTSTAMP:20260419T143044
DTSTART;TZID=America/Argentina/Buenos_Aires;VALUE=DATE:20240906
DTEND;TZID=America/Argentina/Buenos_Aires;VALUE=DATE:20240907
SEQUENCE:0
TRANSP:OPAQUE
END:VEVENT
END:VCALENDAR