BEGIN:VCALENDAR
VERSION:2.0
PRODID:-//jEvents 2.0 for Joomla//EN
CALSCALE:GREGORIAN
METHOD:PUBLISH
BEGIN:VEVENT
UID:CSVConvert3c8d7f6b783980a1ff39b0fde9d532c0
CATEGORIES:Vencimientos
CREATED:20231213T173239
SUMMARY:SIRCUPA - VENCIMIENTO PRESENTACION DDJJ 3ra DECENA JUNIO
DESCRIPTION:
DTSTAMP:20260419T174202
DTSTART;TZID=America/Argentina/Buenos_Aires;VALUE=DATE:20240704
DTEND;TZID=America/Argentina/Buenos_Aires;VALUE=DATE:20240705
SEQUENCE:0
TRANSP:OPAQUE
END:VEVENT
END:VCALENDAR