BEGIN:VCALENDAR
VERSION:2.0
PRODID:-//jEvents 2.0 for Joomla//EN
CALSCALE:GREGORIAN
METHOD:PUBLISH
BEGIN:VEVENT
UID:CSVConvert28c462d975efd76712ec9aeb76464557
CATEGORIES:Vencimientos
CREATED:20231213T173239
SUMMARY:SIRCUPA - VENCIMIENTO PRESENTACION DDJJ 2da DECENA SEPTIEMBRE
DESCRIPTION:
DTSTAMP:20260419T143452
DTSTART;TZID=America/Argentina/Buenos_Aires;VALUE=DATE:20240926
DTEND;TZID=America/Argentina/Buenos_Aires;VALUE=DATE:20240927
SEQUENCE:0
TRANSP:OPAQUE
END:VEVENT
END:VCALENDAR