BEGIN:VCALENDAR
VERSION:2.0
PRODID:-//jEvents 2.0 for Joomla//EN
CALSCALE:GREGORIAN
METHOD:PUBLISH
BEGIN:VEVENT
UID:CSVConvert206fbb3d6e41e0ee809ba59b905ba354
CATEGORIES:Vencimientos
CREATED:20231213T173238
SUMMARY:SIRCUPA - VENCIMIENTO PRESENTACION DDJJ 3ra DECENA MAYO
DESCRIPTION:
DTSTAMP:20260419T191307
DTSTART;TZID=America/Argentina/Buenos_Aires;VALUE=DATE:20240606
DTEND;TZID=America/Argentina/Buenos_Aires;VALUE=DATE:20240607
SEQUENCE:0
TRANSP:OPAQUE
END:VEVENT
END:VCALENDAR