BEGIN:VCALENDAR
VERSION:2.0
PRODID:-//jEvents 2.0 for Joomla//EN
CALSCALE:GREGORIAN
METHOD:PUBLISH
BEGIN:VEVENT
UID:CSVConvert19ee09e039dddb1163942c870fe6eaee
CATEGORIES:Vencimientos
CREATED:20231213T173238
SUMMARY:SIRCUPA - VENCIMIENTO PAGO DDJJ 3ra DECENA MAYO
DESCRIPTION:
DTSTAMP:20260419T191327
DTSTART;TZID=America/Argentina/Buenos_Aires;VALUE=DATE:20240607
DTEND;TZID=America/Argentina/Buenos_Aires;VALUE=DATE:20240608
SEQUENCE:0
TRANSP:OPAQUE
END:VEVENT
END:VCALENDAR