BEGIN:VCALENDAR
VERSION:2.0
PRODID:-//jEvents 2.0 for Joomla//EN
CALSCALE:GREGORIAN
METHOD:PUBLISH
BEGIN:VEVENT
UID:CSVConvert129c9b431ac8878aea3cb34a95d677f6
CATEGORIES:Vencimientos
CREATED:20231213T173238
SUMMARY:SIRCUPA - VENCIMIENTO PAGO DDJJ 2da DECENA JUNIO
DESCRIPTION:
DTSTAMP:20260419T191312
DTSTART;TZID=America/Argentina/Buenos_Aires;VALUE=DATE:20240627
DTEND;TZID=America/Argentina/Buenos_Aires;VALUE=DATE:20240628
SEQUENCE:0
TRANSP:OPAQUE
END:VEVENT
END:VCALENDAR