BEGIN:VCALENDAR
VERSION:2.0
PRODID:-//jEvents 2.0 for Joomla//EN
CALSCALE:GREGORIAN
METHOD:PUBLISH
BEGIN:VEVENT
UID:CSVConvertd2c4f51216be095192dc6da24fff0508
CATEGORIES:Vencimientos
CREATED:20231213T173238
SUMMARY:SIRCREB - VENCIMIENTO PAGO DDJJ 2da DECENA OCTUBRE
DESCRIPTION:
DTSTAMP:20260419T123752
DTSTART;TZID=America/Argentina/Buenos_Aires;VALUE=DATE:20241025
DTEND;TZID=America/Argentina/Buenos_Aires;VALUE=DATE:20241026
SEQUENCE:0
TRANSP:OPAQUE
END:VEVENT
END:VCALENDAR