BEGIN:VCALENDAR
VERSION:2.0
PRODID:-//jEvents 2.0 for Joomla//EN
CALSCALE:GREGORIAN
METHOD:PUBLISH
BEGIN:VEVENT
UID:CSVConvertc0114d564f40e3dc0d54a1b717cb72da
CATEGORIES:Vencimientos
CREATED:20231213T173238
SUMMARY:SIRCREB - VENCIMIENTO PAGO DDJJ 3ra DECENA AGOSTO
DESCRIPTION:
DTSTAMP:20260419T143140
DTSTART;TZID=America/Argentina/Buenos_Aires;VALUE=DATE:20240906
DTEND;TZID=America/Argentina/Buenos_Aires;VALUE=DATE:20240907
SEQUENCE:0
TRANSP:OPAQUE
END:VEVENT
END:VCALENDAR