BEGIN:VCALENDAR
VERSION:2.0
PRODID:-//jEvents 2.0 for Joomla//EN
CALSCALE:GREGORIAN
METHOD:PUBLISH
BEGIN:VEVENT
UID:CSVConvertba91b82b26284d7a82f6f7c8a8c02e79
CATEGORIES:Vencimientos
CREATED:20231213T173238
SUMMARY:SIRCREB - VENCIMIENTO PAGO DDJJ 2da DECENA JUNIO
DESCRIPTION:
DTSTAMP:20260419T191305
DTSTART;TZID=America/Argentina/Buenos_Aires;VALUE=DATE:20240627
DTEND;TZID=America/Argentina/Buenos_Aires;VALUE=DATE:20240628
SEQUENCE:0
TRANSP:OPAQUE
END:VEVENT
END:VCALENDAR