BEGIN:VCALENDAR
VERSION:2.0
PRODID:-//jEvents 2.0 for Joomla//EN
CALSCALE:GREGORIAN
METHOD:PUBLISH
BEGIN:VEVENT
UID:CSVConvert93489d746bbf1cc300eaf28d3819e817
CATEGORIES:Vencimientos
CREATED:20231213T173238
SUMMARY:SIRCREB - VENCIMIENTO PAGO DDJJ 1ra DECENA AGOSTO
DESCRIPTION:
DTSTAMP:20260419T161214
DTSTART;TZID=America/Argentina/Buenos_Aires;VALUE=DATE:20240816
DTEND;TZID=America/Argentina/Buenos_Aires;VALUE=DATE:20240817
SEQUENCE:0
TRANSP:OPAQUE
END:VEVENT
END:VCALENDAR