BEGIN:VCALENDAR
VERSION:2.0
PRODID:-//jEvents 2.0 for Joomla//EN
CALSCALE:GREGORIAN
METHOD:PUBLISH
BEGIN:VEVENT
UID:CSVConvert6e8f5e8a941d2341ef98448d026c0395
CATEGORIES:Vencimientos
CREATED:20231213T173238
SUMMARY:SIRCREB - VENCIMIENTO PAGO DDJJ 3ra DECENA MAYO
DESCRIPTION:
DTSTAMP:20260419T191259
DTSTART;TZID=America/Argentina/Buenos_Aires;VALUE=DATE:20240607
DTEND;TZID=America/Argentina/Buenos_Aires;VALUE=DATE:20240608
SEQUENCE:0
TRANSP:OPAQUE
END:VEVENT
END:VCALENDAR