BEGIN:VCALENDAR
VERSION:2.0
PRODID:-//jEvents 2.0 for Joomla//EN
CALSCALE:GREGORIAN
METHOD:PUBLISH
BEGIN:VEVENT
UID:CSVConvert29e2aadd9ce69d3425be85f589489224
CATEGORIES:Vencimientos
CREATED:20231213T173237
SUMMARY:SIRCREB - VENCIMIENTO PRESENTACION DDJJ 1ra DECENA AGOSTO
DESCRIPTION:
DTSTAMP:20260419T161156
DTSTART;TZID=America/Argentina/Buenos_Aires;VALUE=DATE:20240815
DTEND;TZID=America/Argentina/Buenos_Aires;VALUE=DATE:20240816
SEQUENCE:0
TRANSP:OPAQUE
END:VEVENT
END:VCALENDAR