BEGIN:VCALENDAR
VERSION:2.0
PRODID:-//jEvents 2.0 for Joomla//EN
CALSCALE:GREGORIAN
METHOD:PUBLISH
BEGIN:VEVENT
UID:CSVConvert05e5bdc68661718462b16852f61b73e1
CATEGORIES:Vencimientos
CREATED:20231213T173237
SUMMARY:SIRCREB - VENCIMIENTO PRESENTACION DDJJ 1ra DECENA JUNIO
DESCRIPTION:
DTSTAMP:20260419T191309
DTSTART;TZID=America/Argentina/Buenos_Aires;VALUE=DATE:20240613
DTEND;TZID=America/Argentina/Buenos_Aires;VALUE=DATE:20240614
SEQUENCE:0
TRANSP:OPAQUE
END:VEVENT
END:VCALENDAR