BEGIN:VCALENDAR
VERSION:2.0
PRODID:-//jEvents 2.0 for Joomla//EN
CALSCALE:GREGORIAN
METHOD:PUBLISH
BEGIN:VEVENT
UID:CSVConvert024a8d6557a732beb7b89cf1be3319a4
CATEGORIES:Vencimientos
CREATED:20231213T173237
SUMMARY:SIRCREB - VENCIMIENTO PRESENTACION DDJJ 2da DECENA OCTUBRE
DESCRIPTION:
DTSTAMP:20260419T123700
DTSTART;TZID=America/Argentina/Buenos_Aires;VALUE=DATE:20241024
DTEND;TZID=America/Argentina/Buenos_Aires;VALUE=DATE:20241025
SEQUENCE:0
TRANSP:OPAQUE
END:VEVENT
END:VCALENDAR