BEGIN:VCALENDAR
VERSION:2.0
PRODID:-//jEvents 2.0 for Joomla//EN
CALSCALE:GREGORIAN
METHOD:PUBLISH
BEGIN:VEVENT
UID:CSVConvertd3567819714790a927aaf220953c7312
CATEGORIES:Vencimientos
CREATED:20231213T173237
SUMMARY:SIRCAR - VENCIMIENTO 2da QUINCENA Y MENSUAL SEPTIEMBRE Díg. Verif. Cuit 5 al 9
DESCRIPTION:
DTSTAMP:20260419T123757
DTSTART;TZID=America/Argentina/Buenos_Aires;VALUE=DATE:20241009
DTEND;TZID=America/Argentina/Buenos_Aires;VALUE=DATE:20241010
SEQUENCE:0
TRANSP:OPAQUE
END:VEVENT
END:VCALENDAR