BEGIN:VCALENDAR
VERSION:2.0
PRODID:-//jEvents 2.0 for Joomla//EN
CALSCALE:GREGORIAN
METHOD:PUBLISH
BEGIN:VEVENT
UID:CSVConvertcb496038472d5d71387fe1f5b2561e54
CATEGORIES:Vencimientos
CREATED:20231213T173237
SUMMARY:SIRCAR - VENCIMIENTO 2da QUINCENA Y MENSUAL JULIO Díg. Verif. Cuit 0 al 4
DESCRIPTION:
DTSTAMP:20260419T161207
DTSTART;TZID=America/Argentina/Buenos_Aires;VALUE=DATE:20240808
DTEND;TZID=America/Argentina/Buenos_Aires;VALUE=DATE:20240809
SEQUENCE:0
TRANSP:OPAQUE
END:VEVENT
END:VCALENDAR