BEGIN:VCALENDAR
VERSION:2.0
PRODID:-//jEvents 2.0 for Joomla//EN
CALSCALE:GREGORIAN
METHOD:PUBLISH
BEGIN:VEVENT
UID:CSVConvert7de3015599a6371f97483998c8e2b695
CATEGORIES:Vencimientos
CREATED:20231213T173237
SUMMARY:SIRCAR - VENCIMIENTO 2da QUINCENA Y MENSUAL JUNIO Díg. Verif. Cuit 5 al 9
DESCRIPTION:
DTSTAMP:20260419T191328
DTSTART;TZID=America/Argentina/Buenos_Aires;VALUE=DATE:20240711
DTEND;TZID=America/Argentina/Buenos_Aires;VALUE=DATE:20240712
SEQUENCE:0
TRANSP:OPAQUE
END:VEVENT
END:VCALENDAR