BEGIN:VCALENDAR
VERSION:2.0
PRODID:-//jEvents 2.0 for Joomla//EN
CALSCALE:GREGORIAN
METHOD:PUBLISH
BEGIN:VEVENT
UID:CSVConvert7ab8d12384ddd570468506bc7a9c6616
CATEGORIES:Vencimientos
CREATED:20231213T173237
SUMMARY:SIRCAR - VENCIMIENTO 1ra QUINCENA JUNIO Díg. Verif. Cuit 0 al 4
DESCRIPTION:
DTSTAMP:20260419T191315
DTSTART;TZID=America/Argentina/Buenos_Aires;VALUE=DATE:20240625
DTEND;TZID=America/Argentina/Buenos_Aires;VALUE=DATE:20240626
SEQUENCE:0
TRANSP:OPAQUE
END:VEVENT
END:VCALENDAR