BEGIN:VCALENDAR
VERSION:2.0
PRODID:-//jEvents 2.0 for Joomla//EN
CALSCALE:GREGORIAN
METHOD:PUBLISH
BEGIN:VEVENT
UID:CSVConvert7941d0bd66c2bf5dd7d8dff315dd131c
CATEGORIES:Vencimientos
CREATED:20231213T173237
SUMMARY:SIRCAR - VENCIMIENTO 2da QUINCENA Y MENSUAL AGOSTO Díg. Verif. Cuit 0 al 4
DESCRIPTION:
DTSTAMP:20260419T143310
DTSTART;TZID=America/Argentina/Buenos_Aires;VALUE=DATE:20240909
DTEND;TZID=America/Argentina/Buenos_Aires;VALUE=DATE:20240910
SEQUENCE:0
TRANSP:OPAQUE
END:VEVENT
END:VCALENDAR