BEGIN:VCALENDAR
VERSION:2.0
PRODID:-//jEvents 2.0 for Joomla//EN
CALSCALE:GREGORIAN
METHOD:PUBLISH
BEGIN:VEVENT
UID:CSVConvert6d030de35d3175e75e04f05b6d63c47e
CATEGORIES:Vencimientos
CREATED:20231213T173237
SUMMARY:SIRCAR - VENCIMIENTO 2da QUINCENA Y MENSUAL SEPTIEMBRE Díg. Verif. Cuit 0 al 4
DESCRIPTION:
DTSTAMP:20260419T123746
DTSTART;TZID=America/Argentina/Buenos_Aires;VALUE=DATE:20241008
DTEND;TZID=America/Argentina/Buenos_Aires;VALUE=DATE:20241009
SEQUENCE:0
TRANSP:OPAQUE
END:VEVENT
END:VCALENDAR