BEGIN:VCALENDAR
VERSION:2.0
PRODID:-//jEvents 2.0 for Joomla//EN
CALSCALE:GREGORIAN
METHOD:PUBLISH
BEGIN:VEVENT
UID:CSVConvert5fa56160738aab7f021c07b1f488fdb7
CATEGORIES:Vencimientos
CREATED:20231213T173237
SUMMARY:SIRCAR - VENCIMIENTO 2da QUINCENA Y MENSUAL MARZO Díg. Verif. Cuit 5 al 9
DESCRIPTION:
DTSTAMP:20260420T015435
DTSTART;TZID=America/Argentina/Buenos_Aires;VALUE=DATE:20240411
DTEND;TZID=America/Argentina/Buenos_Aires;VALUE=DATE:20240412
SEQUENCE:0
TRANSP:OPAQUE
END:VEVENT
END:VCALENDAR