BEGIN:VCALENDAR
VERSION:2.0
PRODID:-//jEvents 2.0 for Joomla//EN
CALSCALE:GREGORIAN
METHOD:PUBLISH
BEGIN:VEVENT
UID:CSVConvert5190fb7cb000fa00a73ff9aa6b5fddaf
CATEGORIES:Vencimientos
CREATED:20231213T173237
SUMMARY:SIRCAR - VENCIMIENTO 1ra QUINCENA JUNIO Díg. Verif. Cuit 5 al 9
DESCRIPTION:
DTSTAMP:20260419T191323
DTSTART;TZID=America/Argentina/Buenos_Aires;VALUE=DATE:20240626
DTEND;TZID=America/Argentina/Buenos_Aires;VALUE=DATE:20240627
SEQUENCE:0
TRANSP:OPAQUE
END:VEVENT
END:VCALENDAR