BEGIN:VCALENDAR
VERSION:2.0
PRODID:-//jEvents 2.0 for Joomla//EN
CALSCALE:GREGORIAN
METHOD:PUBLISH
BEGIN:VEVENT
UID:CSVConvert3ca606ce854a4441286a51ae1366e31c
CATEGORIES:Vencimientos
CREATED:20231213T173237
SUMMARY:SIRCAR - VENCIMIENTO 2da QUINCENA Y MENSUAL MAYO Díg. Verif. Cuit 5 al 9
DESCRIPTION:
DTSTAMP:20260419T191316
DTSTART;TZID=America/Argentina/Buenos_Aires;VALUE=DATE:20240611
DTEND;TZID=America/Argentina/Buenos_Aires;VALUE=DATE:20240612
SEQUENCE:0
TRANSP:OPAQUE
END:VEVENT
END:VCALENDAR