BEGIN:VCALENDAR
VERSION:2.0
PRODID:-//jEvents 2.0 for Joomla//EN
CALSCALE:GREGORIAN
METHOD:PUBLISH
BEGIN:VEVENT
UID:CSVConvert335e1cfc87ea2aff0aef37e88c788186
CATEGORIES:Vencimientos
CREATED:20231213T173237
SUMMARY:SIRCAR - VENCIMIENTO 1ra QUINCENA SEPTIEMBRE Díg. Verif. Cuit 5 al 9
DESCRIPTION:
DTSTAMP:20260419T161114
DTSTART;TZID=America/Argentina/Buenos_Aires;VALUE=DATE:20240924
DTEND;TZID=America/Argentina/Buenos_Aires;VALUE=DATE:20240925
SEQUENCE:0
TRANSP:OPAQUE
END:VEVENT
END:VCALENDAR