BEGIN:VCALENDAR
VERSION:2.0
PRODID:-//jEvents 2.0 for Joomla//EN
CALSCALE:GREGORIAN
METHOD:PUBLISH
BEGIN:VEVENT
UID:CSVConvert1165680038771c05510d2b5674cce743
CATEGORIES:Vencimientos
CREATED:20231213T173237
SUMMARY:SIRCAR - VENCIMIENTO 1ra QUINCENA AGOSTO Díg. Verif. Cuit 0 al 4
DESCRIPTION:
DTSTAMP:20260419T174202
DTSTART;TZID=America/Argentina/Buenos_Aires;VALUE=DATE:20240823
DTEND;TZID=America/Argentina/Buenos_Aires;VALUE=DATE:20240824
SEQUENCE:0
TRANSP:OPAQUE
END:VEVENT
END:VCALENDAR