BEGIN:VCALENDAR
VERSION:2.0
PRODID:-//jEvents 2.0 for Joomla//EN
CALSCALE:GREGORIAN
METHOD:PUBLISH
BEGIN:VEVENT
UID:CSVConvertefeab1734b0f484c1a1eff3cfb6e2914
CATEGORIES:Vencimientos
CREATED:20231213T173236
SUMMARY:SIFERE - VENCIMIENTO Anticipo Septiembre - Díg. Verif. Cuit 6 a 7
DESCRIPTION:
DTSTAMP:20260419T123748
DTSTART;TZID=America/Argentina/Buenos_Aires;VALUE=DATE:20241017
DTEND;TZID=America/Argentina/Buenos_Aires;VALUE=DATE:20241018
SEQUENCE:0
TRANSP:OPAQUE
END:VEVENT
END:VCALENDAR