BEGIN:VCALENDAR
VERSION:2.0
PRODID:-//jEvents 2.0 for Joomla//EN
CALSCALE:GREGORIAN
METHOD:PUBLISH
BEGIN:VEVENT
UID:CSVConvertd9621f61741f85d602d91745310a1191
CATEGORIES:Vencimientos
CREATED:20231213T173236
SUMMARY:SIFERE - VENCIMIENTO Anticipo Mayo - Díg. Verif. Cuit 8 a 9
DESCRIPTION:
DTSTAMP:20260419T191136
DTSTART;TZID=America/Argentina/Buenos_Aires;VALUE=DATE:20240621
DTEND;TZID=America/Argentina/Buenos_Aires;VALUE=DATE:20240622
SEQUENCE:0
TRANSP:OPAQUE
END:VEVENT
END:VCALENDAR