BEGIN:VCALENDAR
VERSION:2.0
PRODID:-//jEvents 2.0 for Joomla//EN
CALSCALE:GREGORIAN
METHOD:PUBLISH
BEGIN:VEVENT
UID:CSVConvertcfdd1c1ff14eca6e65c595f2e2dbe334
CATEGORIES:Vencimientos
CREATED:20231213T173236
SUMMARY:SIFERE - VENCIMIENTO Anticipo Mayo - Díg. Verif. Cuit 6 a 7
DESCRIPTION:
DTSTAMP:20260419T191421
DTSTART;TZID=America/Argentina/Buenos_Aires;VALUE=DATE:20240619
DTEND;TZID=America/Argentina/Buenos_Aires;VALUE=DATE:20240620
SEQUENCE:0
TRANSP:OPAQUE
END:VEVENT
END:VCALENDAR